Workbook

Sheet Instructions
A1: New York State Department of Transportation, on behalf of the New York Metropolitan Transportation Council (NYMTC)
A2: RFP #C000797: NYMTC UPWP Web Application Project
A3: 44172
A4: Attachment 5 - Cost Proposal - RFP Modification #1
B5: Instructions
A7: When completing the spreadsheet, Proposers should follow these instructions:
B8: 1. Each proposed cost shall include all applicable expenses. All proposed costs shall include all proposed services necessary to perform and deliver all applicable RFP requirements.
B9: 2. A derivation shall be provided for each proposed cost, divided into categorical items which add up to the total proposed cost. Additional worksheets and documents may be attached to explain and provide back-up detail supporting proposed costs.
B10: 3. All proposed costs shall represent a firm offer, good for 365 calendar days from the date of proposal submittal.
B11: 4. Most proposed costs represent firm fixed costs for the duration on the resulting contract. Please note, some other costs may get adjusted depending upon relevant acceptance dates, warranty start dates, and support start dates.
B12: 5. The accuracy of calculations and formulas used to generate each proposed cost are the responsibility of the Proposer. It is recommended that proposed costs be verified before submission. NYSDOT and NYMTC reserve the right to ask clarification questions regarding a firm's cost proposal.
B13: 6. All proposed costs shall also include all allowed overhead, all required fees and profits, and any required third party costs necessary to deliver all RFP requirements.
B14: 7. All terminology used in the Cost & Administrative proposal shall be consistent with and correspond to terminology used in the Technical & Management proposal.
B15: 8. Only make entries in yellow highlighted cells.
B16: 9. Changes to the worksheet's format or formulas are not permitted but additional worksheets and documents may be attached to explain and provide back-up details supporting proposed costs.
B17: 10. Additional individual instructions and footnotes, as applicable, are provided at the bottom of each exhibit.
B18: 11. Include all Attachment 5 Cost Proposal information in the Cost Proposal section of your Cost & Administrative Proposal submission.
B19: 12. If you insert additional rows in Exhibit 2, Exhibit 3, Exhibit 3A, Exhibit 3B, or Exhibit 4 you are responsible for making sure the mathematical logic is maintained.
... B52: *

Sheet Exh1_Cost Summary
A1: New York State Department of Transportation, on behalf of the New York Metropolitan Transportation Council (NYMTC)
B2: RFP #C000797: NYMTC UPWP Web Application Project
B3: =Instructions!A3 -> 44172
B4: Attachment 5 - Cost Proposal - RFP Modification #1
B6: EXHIBIT 1
B8: NYMTC UPWP Web Application Project: Cost Proposal Summary
B10: Proposer Name: | D10: Name
B11: Proposal Submission Date: | D11: Date
B12: Proposer Address: | D12: Address
B14: Total Five-Year Costs: Derived sum from all costs presented below | D14: =D16+D18+D20+D22+D24 -> 434306.06
B16: Total Five-Year Software Costs: Carried over from Exhibit 2 | D16: ='Exh2_Software Cost'!J16 -> 7500
B18: Total Five-Year Services Costs: Carried over from Exhibit 3 | D18: ='Exh3_Cost of Services'!K68 -> 345000
B20: Total Five-Year DNS Costs: Carried over from Exhibit 3B | D20: =Exh3B_DNSC!J19 -> 70000
B22: Total Hypothetical Extra Work Costs: Carried over from Exhibit 4 | D22: ='Exh4_Hourly Rates'!O19 -> 7806.0602
B24: Task 6 Required On-Site Labor Costs: Carried over from Exhibit 4 | D24: ='Exh4_Hourly Rates'!K33 -> 4000
B26: The Cost Basis of Estimate provides a record of the procedures, ground rules and assumptions, data, environment, assumptions used to calculate the firm fixed price cost, any variably-priced service costs, and an explanation as to how the assumptions relate to delivery of requested services. Good documentation supports the cost proposal’s credibility and enables reviewers to effectively assess the costs. Include an explanation of the pricing structure. Attach as many pages as necessary.
B29: Offeror’s Authorized Representative:
B31: Print name | D31: Title
B33: Signature | D33: Date
B37: Cost Summary Instructions:
B38: 1. Enter full legal name of the Proposer once. This will carryover to all tabs.
B39: 2. Enter proposal submission date once. This will carryover to all tabs.
B40: 3. Enter proposing firm address.
B41: 4. Do not enter any total proposed costs. These figures are automatically carried form the other worksheets after those worksheets have been completed.
B42: 5. Print and sign/date to certify proposed costs - include in your Cost Proposal.
B43: 6. Only make entries in yellow highlighted cells.

Sheet Exh2_Software Cost
A1: New York State Department of Transportation, on behalf of the New York Metropolitan Transportation Council (NYMTC)
B2: RFP #C000797: NYMTC UPWP Web Application Project
B3: =Instructions!A3 -> 44172
B4: Attachment 5 Cost Proposal - RFP Modification #1
B7: Proposer Name: | D7: ='Exh1_Cost Summary'!D10 -> Name
B8: Proposal Submission Date: | D8: ='Exh1_Cost Summary'!D11:E11 -> Date
B9: Software Costs: include all software packages and licenses that are needed to meet requirements specified in the RFP and all associated software that is required to operate the proposed NYMTC UPWP Web Application System.
B10: Please note these numbers are not real, made up for preparation purposes.
E12: EXHIBIT 2
B13: Software Item | C13: Quantity | D13: Year One Unit Cost | E13: Year One Cost | F13: Year Two Cost | G13: Year Three Cost | H13: Year Four Cost | I13: Year Five Cost | J13: Total Five-Year Cost
B14: ABC (Database Management System) | C14: 1 | D14: 1000 | E14: =D14*C14 -> 1000 | F14: =E14 -> 1000 | G14: =E14 -> 1000 | H14: =E14 -> 1000 | I14: =E14 -> 1000 | J14: =SUM(E14:I14) -> 5000
B15: Software Maintenance Cost: | C15: 1 | D15: 500 | E15: =D15*C15 -> 500 | F15: =E15 -> 500 | G15: =E15 -> 500 | H15: =E15 -> 500 | I15: =E15 -> 500 | J15: =SUM(E15:I15) -> 2500
B16: Total Software Cost: | E16: =SUM(E14:E15) -> 1500 | F16: =SUM(F14:F15) -> 1500 | G16: =SUM(G14:G15) -> 1500 | H16: =SUM(H14:H15) -> 1500 | I16: =SUM(I14:I15) -> 1500 | J16: =SUM(J14:J15) -> 7500
B19: Software Cost Instructions:
B20: 1. For Column B: Enter each proposed Software Item required to support the proposed system/solution. If more than two rows are necessary to complete your offer, please add as many additoinal rows to include all proposed Software Items. When inserting new rows, please be sure to verify the functionality associated with columns E through I.
B21: 2. For Column C, for Row 14 (etc), enter the proposed Quantity of each proposed Software Item required to support the proposed system/solution.
B22: 3. For Column D, for Row 14 (etc), enter the proposed Year One Unit Cost of each proposed Software Item required to support the proposed system/solution. Cost must remain fixed for Year Two through Year Five, inclusive, for each Software Item offered. Do not enter cost informatoin under columns E through I.
B23: 4. Enter Fixed Year One Software Maintenance Costs (must include all applicable fees). Do not enter costs for years two through five (year one cost must remain fixed over the life of the contract).
B24: 5. Year One through Year Five totals, inclusive, are automatically calculated. Do not enter values into these cells.
B25: 6. If you insert additional rows (as necessary) you are responsible for making sure the mathematical logic is the same as above. Do not add additional columns.
B26: 7. The software costs include all software items and licenses that are needed to meet requirements specified in the RFP and all associated software that is required to operate the proposed solution. Include cost of all future upgrades and new releases.
B27: 8. Exhibit 2 shall include software and software maintenace costs provided by the prime and any and all proposed subconsultants or third parties

Sheet Exh3_Cost of Services
B1: New York State Department of Transportation, on behalf of the New York Metropolitan Transportation Council (NYMTC)
B2: RFP #C000797: NYMTC UPWP Web Application Project
B3: =Instructions!A3 -> 44172
B4: Attachment 5 - Cost Proposal - RFP Modification #1
C6: Proposer Name: | E6: ='Exh1_Cost Summary'!D10 -> Name
C7: Proposal Submission Date: | E7: ='Exh1_Cost Summary'!D11 -> Date
C9: Please note these numbers are not real, made up for preparation purposes.
C11: Proposed Total Personal Service Cost: 1 | E11: 200000 | F11: =SUM(F12:F15) -> 1
C12: Proposed Total Personal Service Cost: Prime | E12: =$E$11*F12 -> 100000 | F12: 0.5
C13: Proposed Total Personal Service Cost: Sub 1 | E13: =$E$11*F13 -> 50000 | F13: 0.25
C14: Proposed Total Personal Service Cost: Sub 2 | E14: =$E$11*F14 -> 30000 | F14: 0.15
C15: Proposed Total Personal Service Cost: Sub 3 | E15: =$E$11*F15 -> 20000 | F15: 0.1
B17: *Please review the fotenotes at the bottom of this worksheet.
B19: Exhibit 3 - Total 11
B20: Deliverable Number | C20: Deliverable Name | D20: Deliverable Type | E20: Payment Percent 2 | F20: Contract Year One | G20: Contract Year Two | H20: Contract Year Three | I20: Contract Year Four | J20: Contract Year Five | K20: Total Five Year Cost | L20: Target Completion Date 3
B21: Task 1: Requirements Gathering | E21: =SUM(E22:E23) -> 0.03 | F21: =SUM(F22:F23) -> 6000 | G21: =SUM(G22:G23) -> 0 | H21: =SUM(H22:H23) -> 0 | I21: =SUM(I22:I23) -> 0 | J21: =SUM(J22:J23) -> 0 | K21: =SUM(F21:J21) -> 6000 | L21: One Month after Project Initiation
B22: 1.1 | C22: Business Requirement Document (Draft) | D22: Document | E22: =K22/$E$11 -> 0.02 | F22: =SUM(F73,F123,F173,F223) -> 4000 | G22: =SUM(G73,G123,G173,G223) -> 0 | H22: =SUM(H73,H123,H173,H223) -> 0 | I22: =SUM(I73,I123,I173,I223) -> 0 | J22: =SUM(J73,J123,J173,J223) -> 0 | K22: =SUM(F22:J22) -> 4000
B23: 1.2 | C23: Business Requirement Document (Final) | D23: Document | E23: =K23/$E$11 -> 0.01 | F23: =SUM(F74,F124,F174,F224) -> 2000 | G23: =SUM(G74,G124,G174,G224) -> 0 | H23: =SUM(H74,H124,H174,H224) -> 0 | I23: =SUM(I74,I124,I174,I224) -> 0 | J23: =SUM(J74,J124,J174,J224) -> 0 | K23: =SUM(F23:J23) -> 2000
B24: Task 2: Database Design and Modeling: A Relational Database Model | E24: =SUM(E25:E27) -> 0.1 | F24: =SUM(F25:F27) -> 20000 | G24: =SUM(G25:G27) -> 0 | H24: =SUM(H25:H27) -> 0 | I24: =SUM(I25:I27) -> 0 | J24: =SUM(J25:J27) -> 0 | K24: =SUM(F24:J24) -> 20000 | L24: Two Months after Project Initiation
B25: 2.1 | C25: Tech-memo describing all the data tables and fields of the proposed UPWP application; description of conceptual and physical design and relationship of all normalized tables (Preliminary Draft) | D25: Document | E25: =K25/$E$11 -> 0.06 | F25: =SUM(F76,F126,F176,F226) -> 12000 | G25: =SUM(G76,G126,G176,G226) -> 0 | H25: =SUM(H76,H126,H176,H226) -> 0 | I25: =SUM(I76,I126,I176,I226) -> 0 | J25: =SUM(J76,J126,J176,J226) -> 0 | K25: =SUM(F25:J25) -> 12000
B26: 2.2 | C26: Tech-memo describing all the data tables and fields of the proposed UPWP application; description of conceptual and physical design and relationship of all normalized tables (Final Draft) | D26: Document | E26: =K26/$E$11 -> 0.03 | F26: =SUM(F77,F127,F177,F227) -> 6000 | G26: =SUM(G77,G127,G177,G227) -> 0 | H26: =SUM(H77,H127,H177,H227) -> 0 | I26: =SUM(I77,I127,I177,I227) -> 0 | J26: =SUM(J77,J127,J177,J227) -> 0 | K26: =SUM(F26:J26) -> 6000
B27: 2.3 | C27: Tech-memo describing all the data tables and fields of the proposed UPWP application; description of conceptual and physical design and relationship of all normalized tables (Final) | D27: Document | E27: =K27/$E$11 -> 0.01 | F27: =SUM(F78,F128,F178,F228) -> 2000 | G27: =SUM(G78,G128,G178,G228) -> 0 | H27: =SUM(H78,H128,H178,H228) -> 0 | I27: =SUM(I78,I128,I178,I228) -> 0 | J27: =SUM(J78,J128,J178,J228) -> 0 | K27: =SUM(F27:J27) -> 2000
B28: Task 3: Development of the UPWP Web-Application using Wireframing and Iterative Prototyping | E28: =SUM(E29:E34) -> 0.12 | F28: =SUM(F29:F34) -> 16000 | G28: =SUM(G29:G34) -> 8000 | H28: =SUM(H29:H34) -> 0 | I28: =SUM(I29:I34) -> 0 | J28: =SUM(J29:J34) -> 0 | K28: =SUM(F28:J28) -> 24000 | L28: Four months after completing Task 2.
B29: 3.1 | C29: Wire-frames, Prototypes (Iteration 1) | D29: Activity / Milestone | E29: =K29/$E$11 -> 0.02 | F29: =SUM(F80,F130,F180,F230) -> 4000 | G29: =SUM(G80,G130,G180,G230) -> 0 | H29: =SUM(H80,H130,H180,H230) -> 0 | I29: =SUM(I80,I130,I180,I230) -> 0 | J29: =SUM(J80,J130,J180,J230) -> 0 | K29: =SUM(F29:J29) -> 4000
B30: 3.2 | C30: Wire-frames, Prototypes (Iteration 2) | D30: Activity / Milestone | E30: =K30/$E$11 -> 0.02 | F30: =SUM(F81,F131,F181,F231) -> 4000 | G30: =SUM(G81,G131,G181,G231) -> 0 | H30: =SUM(H81,H131,H181,H231) -> 0 | I30: =SUM(I81,I131,I181,I231) -> 0 | J30: =SUM(J81,J131,J181,J231) -> 0 | K30: =SUM(F30:J30) -> 4000
B31: 3.3 | C31: Wire-frames, Prototypes (Iteration 3) | D31: Activity / Milestone | E31: =K31/$E$11 -> 0.02 | F31: =SUM(F82,F132,F182,F232) -> 4000 | G31: =SUM(G82,G132,G182,G232) -> 0 | H31: =SUM(H82,H132,H182,H232) -> 0 | I31: =SUM(I82,I132,I182,I232) -> 0 | J31: =SUM(J82,J132,J182,J232) -> 0 | K31: =SUM(F31:J31) -> 4000
B32: 3.4 | C32: Wire-frames, Prototypes (Iteration 4) | D32: Activity / Milestone | E32: =K32/$E$11 -> 0.02 | F32: =SUM(F83,F133,F183,F233) -> 4000 | G32: =SUM(G83,G133,G183,G233) -> 0 | H32: =SUM(H83,H133,H183,H233) -> 0 | I32: =SUM(I83,I133,I183,I233) -> 0 | J32: =SUM(J83,J133,J183,J233) -> 0 | K32: =SUM(F32:J32) -> 4000
B33: 3.5 | C33: Wire-frames, Prototypes (Iteration 5) | D33: Activity / Milestone | E33: =K33/$E$11 -> 0.02 | F33: =SUM(F84,F134,F184,F234) -> 0 | G33: =SUM(G84,G134,G184,G234) -> 4000 | H33: =SUM(H84,H134,H184,H234) -> 0 | I33: =SUM(I84,I134,I184,I234) -> 0 | J33: =SUM(J84,J134,J184,J234) -> 0 | K33: =SUM(F33:J33) -> 4000
B34: 3.6 | C34: Wire-frames, Prototypes (Iteration 6) | D34: Activity / Milestone | E34: =K34/$E$11 -> 0.02 | F34: =SUM(F85,F135,F185,F235) -> 0 | G34: =SUM(G85,G135,G185,G235) -> 4000 | H34: =SUM(H85,H135,H185,H235) -> 0 | I34: =SUM(I85,I135,I185,I235) -> 0 | J34: =SUM(J85,J135,J185,J235) -> 0 | K34: =SUM(F34:J34) -> 4000
B35: Task 4: Web Vulnerability Assessment | E35: =SUM(E36:E37) -> 0.02 | F35: =SUM(F36:F37) -> 0 | G35: =SUM(G36:G37) -> 4000 | H35: =SUM(H36:H37) -> 0 | I35: =SUM(I36:I37) -> 0 | J35: =SUM(J36:J37) -> 0 | K35: =SUM(F35:J35) -> 4000 | L35: Four months after completing Task 2.
B36: 4.1 | C36: Web vulnerability scan report (Draft) | D36: Document | E36: =K36/$E$11 -> 0.01 | F36: =SUM(F87,F137,F187,F237) -> 0 | G36: =SUM(G87,G137,G187,G237) -> 2000 | H36: =SUM(H87,H137,H187,H237) -> 0 | I36: =SUM(I87,I137,I187,I237) -> 0 | J36: =SUM(J87,J137,J187,J237) -> 0 | K36: =SUM(F36:J36) -> 2000
B37: 4.2 | C37: Web vulnerability scan report (Final) | D37: Document | E37: =K37/$E$11 -> 0.01 | F37: =SUM(F88,F138,F188,F238) -> 0 | G37: =SUM(G88,G138,G188,G238) -> 2000 | H37: =SUM(H88,H138,H188,H238) -> 0 | I37: =SUM(I88,I138,I188,I238) -> 0 | J37: =SUM(J88,J138,J188,J238) -> 0 | K37: =SUM(F37:J37) -> 2000
B38: Task 5: Historical Data Migration | E38: =SUM(E39:E41) -> 0.05 | F38: =SUM(F39:F41) -> 0 | G38: =SUM(G39:G41) -> 10000 | H38: =SUM(H39:H41) -> 0 | I38: =SUM(I39:I41) -> 0 | J38: =SUM(J39:J41) -> 0 | K38: =SUM(K39:K41) -> 10000 | L38: Six Months after project initiation
B39: 5.1 | C39: A database including historical data, migrated into new UPWP web applications as necessary | D39: Database | E39: =K39/$E$11 -> 0.04 | F39: =SUM(F90,F140,F190,F240) -> 0 | G39: =SUM(G90,G140,G190,G240) -> 8000 | H39: =SUM(H90,H140,H190,H240) -> 0 | I39: =SUM(I90,I140,I190,I240) -> 0 | J39: =SUM(J90,J140,J190,J240) -> 0 | K39: =SUM(F39:J39) -> 8000
B40: 5.2 | C40: Referential integrity report (Draft) | D40: Document | E40: =K40/$E$11 -> 0.005 | F40: =SUM(F91,F141,F191,F241) -> 0 | G40: =SUM(G91,G141,G191,G241) -> 1000 | H40: =SUM(H91,H141,H191,H241) -> 0 | I40: =SUM(I91,I141,I191,I241) -> 0 | J40: =SUM(J91,J141,J191,J241) -> 0 | K40: =SUM(F40:J40) -> 1000
B41: 5.3 | C41: Referential integrity report (Final) | D41: Document | E41: =K41/$E$11 -> 0.005 | F41: =SUM(F92,F142,F192,F242) -> 0 | G41: =SUM(G92,G142,G192,G242) -> 1000 | H41: =SUM(H92,H142,H192,H242) -> 0 | I41: =SUM(I92,I142,I192,I242) -> 0 | J41: =SUM(J92,J142,J192,J242) -> 0 | K41: =SUM(F41:J41) -> 1000
B42: Task 6: Web Application Testing, Acceptance and Deployment | E42: =SUM(E43:E46) -> 0.48 | F42: =SUM(F43:F46) -> 4700 | G42: =SUM(G43:G46) -> 91300 | H42: =SUM(H43:H46) -> 0 | I42: =SUM(I43:I46) -> 0 | J42: =SUM(J43:J46) -> 0 | K42: =SUM(F42:J42) -> 96000 | L42: Two months after completion of Task 3
B43: 6.1 | C43: Documented test results | D43: Document | E43: =K43/$E$11 -> 0.01 | F43: =SUM(F94,F144,F194,F244) -> 700 | G43: =SUM(G94,G144,G194,G244) -> 1300 | H43: =SUM(H94,H144,H194,H244) -> 0 | I43: =SUM(I94,I144,I194,I244) -> 0 | J43: =SUM(J94,J144,J194,J244) -> 0 | K43: =SUM(F43:J43) -> 2000
B44: 6.2 12 | C44: Successful deployment of the new UPWP web-based application onto the NYMTC server | D44: Activity / Milestone | E44: =K44/$E$11 -> 0.43 | F44: =SUM(F95,F145,F195,F245) -> 0 | G44: =SUM(G95,G145,G195,G245) -> 86000 | H44: =SUM(H95,H145,H195,H245) -> 0 | I44: =SUM(I95,I145,I195,I245) -> 0 | J44: =SUM(J95,J145,J195,J245) -> 0 | K44: =SUM(F44:J44) -> 86000
B45: 6.3 | C45: Technical documentation including fully commented source code and System Design Report (Draft) | D45: Document | E45: =K45/$E$11 -> 0.02 | F45: =SUM(F96,F146,F196,F246) -> 4000 | G45: =SUM(G96,G146,G196,G246) -> 0 | H45: =SUM(H96,H146,H196,H246) -> 0 | I45: =SUM(I96,I146,I196,I246) -> 0 | J45: =SUM(J96,J146,J196,J246) -> 0 | K45: =SUM(F45:J45) -> 4000
...

Sheet Exh3B_DNSC
B1: New York State Department of Transportation, on behalf of the New York Metropolitan Transportation Council (NYMTC)
B2: RFP #C000797: NYMTC UPWP Web Application Project
B3: =Instructions!A3 -> 44172
B4: Attachment 5 - Cost Proposal - RFP Modification #1
C6: Proposer Name: | E6: ='Exh1_Cost Summary'!D10 -> Name
C7: Proposal Submission Date: | E7: ='Exh1_Cost Summary'!D11 -> Date
C9: Please note these numbers are not real, made up for preparation purposes.
C11: Exhibit 3B - Total
C12: Direct Non-Salary Costs Schedule C000797
C13: FIRM NAME | J13: Five-Year
C14: SUMMARY ESTIMATED BUDGET | E14: Year 1 | F14: Year 2 | G14: Year 3 | H14: Year 4 | I14: Year 5 | J14: Total DNSC
C15: Item IA. (Specify Item) | E15: =E26+E37+E48+E59 -> 8000 | F15: =F26+F37+F48+F59 -> 4000 | G15: =G26+G37+G48+G59 -> 4000 | H15: =H26+H37+H48+H59 -> 4000 | I15: =I26+I37+I48+I59 -> 4000 | J15: =SUM(E15:I15) -> 24000
C16: Item II. (Specify Item) | E16: =E27+E38+E49+E60 -> 2000 | F16: =F27+F38+F49+F60 -> 1000 | G16: =G27+G38+G49+G60 -> 1000 | H16: =H27+H38+H49+H60 -> 1000 | I16: =I27+I38+I49+I60 -> 1000 | J16: =SUM(E16:I16) -> 6000
C17: Item III. (Specify Item) | E17: =E28+E39+E50+E61 -> 8000 | F17: =F28+F39+F50+F61 -> 8000 | G17: =G28+G39+G50+G61 -> 8000 | H17: =H28+H39+H50+H61 -> 8000 | I17: =I28+I39+I50+I61 -> 8000 | J17: =SUM(E17:I17) -> 40000
C18: Item IV. (Specify Item) | E18: =E29+E40+E51+E62 -> 0 | F18: =F29+F40+F51+F62 -> 0 | G18: =G29+G40+G51+G62 -> 0 | H18: =H29+H40+H51+H62 -> 0 | I18: =I29+I40+I51+I62 -> 0 | J18: =SUM(E18:I18) -> 0
C19: Total Annual Estimated DNS Cost | E19: =E15+E16+E17+E18 -> 18000 | F19: =F15+F16+F17+F18 -> 13000 | G19: =G15+G16+G17+G18 -> 13000 | H19: =H15+H16+H17+H18 -> 13000 | I19: =I15+I16+I17+I18 -> 13000 | J19: =SUM(E19:I19) -> 70000
C22: Exhibit 3B
C23: Direct Non-Salary Costs Schedule C000797
C24: FIRM NAME: Prime | J24: Five-Year
C25: SUMMARY ESTIMATED BUDGET | E25: Year 1 | F25: Year 2 | G25: Year 3 | H25: Year 4 | I25: Year 5 | J25: Total DNSC
C26: Item IA. (Specify Item) | E26: 0 | F26: 0 | G26: 0 | H26: 0 | I26: 0 | J26: =SUM(E26:I26) -> 0
C27: Item II. (Specify Item) | E27: 0 | F27: 0 | G27: 0 | H27: 0 | I27: 0 | J27: =SUM(E27:I27) -> 0
C28: Item III. (Specify Item) | E28: 2000 | F28: 2000 | G28: 2000 | H28: 2000 | I28: 2000 | J28: =SUM(E28:I28) -> 10000
C29: Item IV. (Specify Item) | E29: 0 | F29: 0 | G29: 0 | H29: 0 | I29: 0 | J29: =SUM(E29:I29) -> 0
C30: Total Annual Estimated DNS Cost | E30: =E26+E27+E28+E29 -> 2000 | F30: =F26+F27+F28+F29 -> 2000 | G30: =G26+G27+G28+G29 -> 2000 | H30: =H26+H27+H28+H29 -> 2000 | I30: =I26+I27+I28+I29 -> 2000 | J30: =SUM(E30:I30) -> 10000
C33: Exhibit 3B
C34: Direct Non-Salary Costs Schedule C000797
C35: FIRM NAME: Subconsultant 1 | J35: Five-Year
C36: SUMMARY ESTIMATED BUDGET | E36: Year 1 | F36: Year 2 | G36: Year 3 | H36: Year 4 | I36: Year 5 | J36: Total DNSC
C37: Item IA. (Specify Item) | E37: 0 | F37: 0 | G37: 0 | H37: 0 | I37: 0 | J37: =SUM(E37:I37) -> 0
C38: Item II. (Specify Item) | E38: 1000 | F38: 500 | G38: 500 | H38: 500 | I38: 500 | J38: =SUM(E38:I38) -> 3000
C39: Item III. (Specify Item) | E39: 2000 | F39: 2000 | G39: 2000 | H39: 2000 | I39: 2000 | J39: =SUM(E39:I39) -> 10000
C40: Item IV. (Specify Item) | E40: 0 | F40: 0 | G40: 0 | H40: 0 | I40: 0 | J40: =SUM(E40:I40) -> 0
C41: Total Annual Estimated DNS Cost | E41: =E37+E38+E39+E40 -> 3000 | F41: =F37+F38+F39+F40 -> 2500 | G41: =G37+G38+G39+G40 -> 2500 | H41: =H37+H38+H39+H40 -> 2500 | I41: =I37+I38+I39+I40 -> 2500 | J41: =SUM(E41:I41) -> 13000
C44: Exhibit 3B
C45: Direct Non-Salary Costs Schedule C000797
C46: FIRM NAME: Subconsultant 2 | J46: Five-Year
C47: SUMMARY ESTIMATED BUDGET | E47: Year 1 | F47: Year 2 | G47: Year 3 | H47: Year 4 | I47: Year 5 | J47: Total DNSC
C48: Item IA. (Specify Item) | E48: 4000 | F48: 2000 | G48: 2000 | H48: 2000 | I48: 2000 | J48: =SUM(E48:I48) -> 12000
C49: Item II. (Specify Item) | E49: 0 | F49: 0 | G49: 0 | H49: 0 | I49: 0 | J49: =SUM(E49:I49) -> 0
...

Sheet Exh4_Hourly Rates
B1: New York State Department of Transportation, on behalf of the New York Metropolitan Transportation Council (NYMTC)
B2: RFP #C000797: NYMTC UPWP Web Application Project
B3: =Instructions!A3 -> 44172
B4: Attachment 5 - Cost Proposal - RFP Modification #1
B7: Proposer Name: | D7: ='Exh1_Cost Summary'!D10 -> Name
B8: Proposal Submission Date: | D8: ='Exh1_Cost Summary'!D11 -> Date
I9: FOR PROPOSAL EVALUATION PURPOSES ONLY
B11: Please note these numbers are not real, made up for preparation purposes. | I11: Hypothetical Extra Work Cost: Calculates theoretical Extra Work cost per the following assumptions:
D13: EXHIBIT 4 | K13: Year One | L13: Year Two | M13: Year Three | N13: Year Four | O13: Year Five
B14: Labor Category (role) | C14: Fully Loaded Hourly Rate (Year One) | D14: Fully Loaded Hourly Rate (Year Two) | E14: Fully Loaded Hourly Rate (Year Three) | F14: Fully Loaded Hourly Rate (Year Four) | G14: Fully Loaded Hourly Rate (Year Five) | I14: Labor Category (role) | J14: Total Annual Hours | K14: Year One Cost | L14: Year Two Cost | M14: Year Three Cost | N14: Year Four Cost | O14: Year Five Cost
B15: Project Manager | C15: 100 | D15: =C15*1.02 -> 102 | E15: =D15*1.02 -> 104.04 | F15: =E15*1.02 -> 106.1208 | G15: =F15*1.02 -> 108.24322 | I15: =B15 -> Project Manager | J15: 5 | K15: =J15*C15 -> 500 | L15: =J15*D15 -> 510 | M15: =J15*E15 -> 520.2 | N15: =J15*F15 -> 530.604 | O15: =J15*G15 -> 541.21608
B16: Trainer | C16: 100 | D16: =C16*1.02 -> 102 | E16: =D16*1.02 -> 104.04 | F16: =E16*1.02 -> 106.1208 | G16: =F16*1.02 -> 108.24322 | I16: =B16 -> Trainer | J16: 5 | K16: =J16*C16 -> 500 | L16: =J16*D16 -> 510 | M16: =J16*E16 -> 520.2 | N16: =J16*F16 -> 530.604 | O16: =J16*G16 -> 541.21608
B17: Business Analyst | C17: 100 | D17: =C17*1.02 -> 102 | E17: =D17*1.02 -> 104.04 | F17: =E17*1.02 -> 106.1208 | G17: =F17*1.02 -> 108.24322 | I17: =B17 -> Business Analyst | J17: 5 | K17: =J17*C17 -> 500 | L17: =J17*D17 -> 510 | M17: =J17*E17 -> 520.2 | N17: =J17*F17 -> 530.604 | O17: =J17*G17 -> 541.21608
J18: Total: 15 | K18: =SUM(K15:K17) -> 1500 | L18: =SUM(L15:L17) -> 1530 | M18: =SUM(M15:M17) -> 1560.6 | N18: =SUM(N15:N17) -> 1591.812 | O18: =SUM(O15:O17) -> 1623.6482
L19: Total Hypothetical Extra Work Cost: | O19: =K18+L18+M18+N18+O18 -> 7806.0602
B20: Hourly Rate Instructions:
B21: For Each Labor Category | J21: Hypothetical Extra Work Rate Instructions:
B22: 1. Calculate and enter annual 1 not-to-exceed, fully-loaded billing rates for each job title identified in the RFP. Additional subcategories are allowed (i.e., BA I, BA II, BA III, etc., with rates commensurate with higher levels of experience and expertise [add rows as required]). Rates must be fully loaded (i.e., all inclusive of all direct and indirect costs, including but not limited to direct salary costs, overhead, fees, travel, and profit margins). | J22: 1. Each row represents theoretical 'EXTRA WORK' cost provided via an approved Contract Amendment assuming a prescribed level of annual effort of 15 total hours times the corresponding proposed hourly labor rates for each contract year.
B23: 2. Annual rate adjustments, for each contract year following year 1, cannot exceed 2% of the previous year’s rate. | J23: 2. Each labor category is then summed up to generate maximum cost based on specified assumed total 15 annual hours.
B24: 3. If the Offeror has additional labor category (roles) proposed for their solution, they should add rows to the bottom of the table in this worksheet along with a detailed description of the labor category (roles). Again, additional subcategories are allowed (i.e., BA I, BA II, BA III, etc., with rates commensurate with higher levels of experience and expertise [add rows as required]). | J24: 3. For proposal evaluation purposes, you are not allowed to exceed the 15 total annual hours rule. change any of the prescribed total annual hours by role/by rate. If you include additional titles/roles, assume a total of 10 annual hours the total number of hours cannot exceed 15 hours a year. for each labor category for each contract year.
B25: 4. All proposed Rates for each Labor Category/Subcategory shall remain fixed for each contract year. A contract year shall be defined during contract negotiations with the selected Consultant. | J25: 4. NYSDOT will factor in the total Hypothetical Extra Work cost when calculating a proposal's cost score. The RFP provides more information.
B26: 5. Proposed hourly rates shall be used for the development of the detailed cost for any EXTRA WORK added to the contract after award. For proposal evaluation purposes only, one not-to-exceed rate shall be presented for each role (this rule assumes per person per role; actual rates can be equal to or lower than the contract's not-to-exceed rate).
B27: 6. If you insert additional rows (as necessary) you are responsible for making sure the mathematical logic is the same as above.
B28: 7. Please note these numbers are not real; they are made up for preparation purposes.
I29: Task 6 Required Consultant On-Site Labor Cost:
I30: Labor Category (role) 2 | J30: Total Hours 3 | K30: Year One Cost 1
I31: =B15 -> Project Manager | J31: 20 | K31: =J31*C15 -> 2000
I32: Business Analyst | J32: 20 | K32: =J32*C17 -> 2000
J33: Total: 40 | K33: =SUM(K31:K32) -> 4000
I35: Task 6 Required Consultant On-Site Labor Cost Instructions:
J36: 1. See Exh3_Cost of Services, Note #5 on Row 283.
J37: 2. Assumed Labor Categories: Please select the ones per your Technical Proposal. Add rows as necessary. Do not exceed 40 total hours!
J38: 3. Assume 40 total hours on Year One only. Cannot be less than 40 total hours and cannot exceed 40 total hours, for all proposed labor categories or job roles.
